BEGIN:VCALENDAR
VERSION:2.0
PRODID:-//MiningIR - ECPv6.15.20//NONSGML v1.0//EN
CALSCALE:GREGORIAN
METHOD:PUBLISH
X-ORIGINAL-URL:https://miningir.com
X-WR-CALDESC:Events for MiningIR
REFRESH-INTERVAL;VALUE=DURATION:PT1H
X-Robots-Tag:noindex
X-PUBLISHED-TTL:PT1H
BEGIN:VTIMEZONE
TZID:America/Vancouver
BEGIN:DAYLIGHT
TZOFFSETFROM:-0800
TZOFFSETTO:-0700
TZNAME:PDT
DTSTART:20250309T100000
END:DAYLIGHT
BEGIN:STANDARD
TZOFFSETFROM:-0700
TZOFFSETTO:-0800
TZNAME:PST
DTSTART:20251102T090000
END:STANDARD
BEGIN:DAYLIGHT
TZOFFSETFROM:-0800
TZOFFSETTO:-0700
TZNAME:PDT
DTSTART:20260308T100000
END:DAYLIGHT
BEGIN:STANDARD
TZOFFSETFROM:-0700
TZOFFSETTO:-0800
TZNAME:PST
DTSTART:20261101T090000
END:STANDARD
BEGIN:DAYLIGHT
TZOFFSETFROM:-0800
TZOFFSETTO:-0700
TZNAME:PDT
DTSTART:20270314T100000
END:DAYLIGHT
BEGIN:STANDARD
TZOFFSETFROM:-0700
TZOFFSETTO:-0800
TZNAME:PST
DTSTART:20271107T090000
END:STANDARD
END:VTIMEZONE
BEGIN:VEVENT
DTSTART;VALUE=DATE:20260301
DTEND;VALUE=DATE:20260305
DTSTAMP:20260423T115742
CREATED:20251030T145604Z
LAST-MODIFIED:20251030T145604Z
UID:36959-1772323200-1772668799@miningir.com
SUMMARY:PDAC 2026
DESCRIPTION:The world’s biggest mining convention; essential for networking and investor meetings.
URL:https://miningir.com/event/pdac-2026/
LOCATION:Metro Toronto Convention Centre (MTCC)\, 255 Front St W\, Toronto\, Ontario\, M5V 2W6\, Canada
CATEGORIES:Mining Events
ORGANIZER;CN="Prospectors & Developers Association of Canada":MAILTO:info@pdac.ca
END:VEVENT
BEGIN:VEVENT
DTSTART;VALUE=DATE:20260303
DTEND;VALUE=DATE:20260304
DTSTAMP:20260423T115742
CREATED:20251226T133641Z
LAST-MODIFIED:20251226T133641Z
UID:37508-1772496000-1772582399@miningir.com
SUMMARY:Canada's Atlantic edge | PDAC
DESCRIPTION:The Atlantic Edge Investment Event is a premier showcase designed to highlight the vibrant mining sector across Newfoundland and Labrador\, Nova Scotia\, and New Brunswick. As an integral part of PDAC 2026\, this event serves as a dynamic platform for mining companies within these provinces to present their latest projects\, innovations\, and investment opportunities. Our mission is to illuminate the significant contributions these regions make to the global mining landscape\, particularly in the transition towards a zero-carbon energy future. By bringing together industry leaders\, investors\, and stakeholders\, the Atlantic Edge event aims to foster collaboration\, drive investment\, and support the sustainable development of the mining sector in Atlantic Canada.
URL:https://miningir.com/event/canadas-atlantic-edge-pdac/
LOCATION:Intercontinental Hotel Toronto\, 225 Front St W\, Toronto\, ON\, M5V 2X3\, Canada
CATEGORIES:Mining Events
ORGANIZER;CN="Prospectors & Developers Association of Canada":MAILTO:info@pdac.ca
END:VEVENT
END:VCALENDAR