BEGIN:VCALENDAR
VERSION:2.0
PRODID:-//MiningIR - ECPv6.15.20//NONSGML v1.0//EN
CALSCALE:GREGORIAN
METHOD:PUBLISH
X-WR-CALNAME:MiningIR
X-ORIGINAL-URL:https://miningir.com
X-WR-CALDESC:Events for MiningIR
REFRESH-INTERVAL;VALUE=DURATION:PT1H
X-Robots-Tag:noindex
X-PUBLISHED-TTL:PT1H
BEGIN:VTIMEZONE
TZID:America/Vancouver
BEGIN:DAYLIGHT
TZOFFSETFROM:-0800
TZOFFSETTO:-0700
TZNAME:PDT
DTSTART:20250309T100000
END:DAYLIGHT
BEGIN:STANDARD
TZOFFSETFROM:-0700
TZOFFSETTO:-0800
TZNAME:PST
DTSTART:20251102T090000
END:STANDARD
BEGIN:DAYLIGHT
TZOFFSETFROM:-0800
TZOFFSETTO:-0700
TZNAME:PDT
DTSTART:20260308T100000
END:DAYLIGHT
BEGIN:STANDARD
TZOFFSETFROM:-0700
TZOFFSETTO:-0800
TZNAME:PST
DTSTART:20261101T090000
END:STANDARD
BEGIN:DAYLIGHT
TZOFFSETFROM:-0800
TZOFFSETTO:-0700
TZNAME:PDT
DTSTART:20270314T100000
END:DAYLIGHT
BEGIN:STANDARD
TZOFFSETFROM:-0700
TZOFFSETTO:-0800
TZNAME:PST
DTSTART:20271107T090000
END:STANDARD
END:VTIMEZONE
BEGIN:VEVENT
DTSTART;VALUE=DATE:20260416
DTEND;VALUE=DATE:20260418
DTSTAMP:20260423T102827
CREATED:20260202T115628Z
LAST-MODIFIED:20260202T115628Z
UID:37891-1776297600-1776470399@miningir.com
SUMMARY:Resourcing Tomorrow Hong Kong
DESCRIPTION:Resourcing Tomorrow Hong Kong is a senior-level\, education-led forum designed to improve how capital engages with mining and critical minerals. Hosted in one of the world’s leading financial centres\, it sits at the centre of global mining markets and Asian capital at a time of increasing strategic importance for the sector. \nTaking place in the lead-up to the Hong Kong Sevens\, the event brings decision-makers already in the city together for focused\, high-level discussion. The agenda moves beyond transactions and promotion\, explaining how mining projects are developed\, financed and de-risked — from exploration through to production and downstream integration. \nBy convening investors\, mining companies\, governments and advisers across the full value chain\, Resourcing Tomorrow Hong Kong delivers both education and access. Attendees leave better equipped to assess risk\, identify credible partners and allocate capital with confidence
URL:https://miningir.com/event/resourcing-tomorrow-hong-kong/
LOCATION:Four Seasons Hotel Hong Kong\, 8 Finance St\, Central\, Hong Kong\, Hong Kong\, China
CATEGORIES:Mining Events
END:VEVENT
END:VCALENDAR