BEGIN:VCALENDAR
VERSION:2.0
PRODID:-//MiningIR - ECPv6.15.20//NONSGML v1.0//EN
CALSCALE:GREGORIAN
METHOD:PUBLISH
X-ORIGINAL-URL:https://miningir.com
X-WR-CALDESC:Events for MiningIR
REFRESH-INTERVAL;VALUE=DURATION:PT1H
X-Robots-Tag:noindex
X-PUBLISHED-TTL:PT1H
BEGIN:VTIMEZONE
TZID:America/Vancouver
BEGIN:DAYLIGHT
TZOFFSETFROM:-0800
TZOFFSETTO:-0700
TZNAME:PDT
DTSTART:20250309T100000
END:DAYLIGHT
BEGIN:STANDARD
TZOFFSETFROM:-0700
TZOFFSETTO:-0800
TZNAME:PST
DTSTART:20251102T090000
END:STANDARD
BEGIN:DAYLIGHT
TZOFFSETFROM:-0800
TZOFFSETTO:-0700
TZNAME:PDT
DTSTART:20260308T100000
END:DAYLIGHT
BEGIN:STANDARD
TZOFFSETFROM:-0700
TZOFFSETTO:-0800
TZNAME:PST
DTSTART:20261101T090000
END:STANDARD
BEGIN:DAYLIGHT
TZOFFSETFROM:-0800
TZOFFSETTO:-0700
TZNAME:PDT
DTSTART:20270314T100000
END:DAYLIGHT
BEGIN:STANDARD
TZOFFSETFROM:-0700
TZOFFSETTO:-0800
TZNAME:PST
DTSTART:20271107T090000
END:STANDARD
END:VTIMEZONE
BEGIN:VEVENT
DTSTART;VALUE=DATE:20260503
DTEND;VALUE=DATE:20260507
DTSTAMP:20260423T115745
CREATED:20251030T152756Z
LAST-MODIFIED:20251030T152756Z
UID:36972-1777766400-1778111999@miningir.com
SUMMARY:CIM Connect Convention + Expo
DESCRIPTION:Technical & investor forum for mining professionals; excellent for Canadian exposure.
URL:https://miningir.com/event/cim-connect-convention-expo-2/
LOCATION:Vancouver Convention Centre\, 999 Canada Place\, Vancouver\, British Columbia\, V6C 0C3\, Canada
CATEGORIES:Mining Events
ORGANIZER;CN="CIM - Canadian Institute of Mining%2C Metallurgy and Petroleum":MAILTO:cim@cim.org
END:VEVENT
END:VCALENDAR