BEGIN:VCALENDAR
VERSION:2.0
PRODID:-//MiningIR - ECPv6.15.20//NONSGML v1.0//EN
CALSCALE:GREGORIAN
METHOD:PUBLISH
X-WR-CALNAME:MiningIR
X-ORIGINAL-URL:https://miningir.com
X-WR-CALDESC:Events for MiningIR
REFRESH-INTERVAL;VALUE=DURATION:PT1H
X-Robots-Tag:noindex
X-PUBLISHED-TTL:PT1H
BEGIN:VTIMEZONE
TZID:America/Vancouver
BEGIN:DAYLIGHT
TZOFFSETFROM:-0800
TZOFFSETTO:-0700
TZNAME:PDT
DTSTART:20250309T100000
END:DAYLIGHT
BEGIN:STANDARD
TZOFFSETFROM:-0700
TZOFFSETTO:-0800
TZNAME:PST
DTSTART:20251102T090000
END:STANDARD
BEGIN:DAYLIGHT
TZOFFSETFROM:-0800
TZOFFSETTO:-0700
TZNAME:PDT
DTSTART:20260308T100000
END:DAYLIGHT
BEGIN:STANDARD
TZOFFSETFROM:-0700
TZOFFSETTO:-0800
TZNAME:PST
DTSTART:20261101T090000
END:STANDARD
BEGIN:DAYLIGHT
TZOFFSETFROM:-0800
TZOFFSETTO:-0700
TZNAME:PDT
DTSTART:20270314T100000
END:DAYLIGHT
BEGIN:STANDARD
TZOFFSETFROM:-0700
TZOFFSETTO:-0800
TZNAME:PST
DTSTART:20271107T090000
END:STANDARD
END:VTIMEZONE
BEGIN:VEVENT
DTSTART;VALUE=DATE:20260602
DTEND;VALUE=DATE:20260605
DTSTAMP:20260423T131028
CREATED:20251030T153226Z
LAST-MODIFIED:20251030T153226Z
UID:36974-1780358400-1780617599@miningir.com
SUMMARY:THE Mining Investment Event of the North
DESCRIPTION:Tier-1 global mining investor event; strong ESG focus and curated issuer-investor matching.
URL:https://miningir.com/event/the-mining-investment-event-of-the-north-2/
LOCATION:Centre des congrès de Québec\, www.convention.qc.ca CENTRE DES CONGRES DE QUEBEC 900 Rene-levesque Blvd E\, Qubec\, QC\, G1R 2B5\, Canada
CATEGORIES:Mining Events
END:VEVENT
BEGIN:VEVENT
DTSTART;VALUE=DATE:20260603
DTEND;VALUE=DATE:20260605
DTSTAMP:20260423T131028
CREATED:20251030T153726Z
LAST-MODIFIED:20251030T153726Z
UID:36977-1780444800-1780617599@miningir.com
SUMMARY:Lithium Latin America Congress
DESCRIPTION:Focus on lithium exploration\, extraction\, and investment in the Lithium Triangle.
URL:https://miningir.com/event/lithium-latin-america-congress/
LOCATION:BC
CATEGORIES:Mining Events
ORGANIZER;CN="Vostock Capital UK":MAILTO:events@vostockcapital.com
END:VEVENT
END:VCALENDAR