BEGIN:VCALENDAR
VERSION:2.0
PRODID:-//MiningIR - ECPv6.15.20//NONSGML v1.0//EN
CALSCALE:GREGORIAN
METHOD:PUBLISH
X-ORIGINAL-URL:https://miningir.com
X-WR-CALDESC:Events for MiningIR
REFRESH-INTERVAL;VALUE=DURATION:PT1H
X-Robots-Tag:noindex
X-PUBLISHED-TTL:PT1H
BEGIN:VTIMEZONE
TZID:America/Vancouver
BEGIN:DAYLIGHT
TZOFFSETFROM:-0800
TZOFFSETTO:-0700
TZNAME:PDT
DTSTART:20250309T100000
END:DAYLIGHT
BEGIN:STANDARD
TZOFFSETFROM:-0700
TZOFFSETTO:-0800
TZNAME:PST
DTSTART:20251102T090000
END:STANDARD
BEGIN:DAYLIGHT
TZOFFSETFROM:-0800
TZOFFSETTO:-0700
TZNAME:PDT
DTSTART:20260308T100000
END:DAYLIGHT
BEGIN:STANDARD
TZOFFSETFROM:-0700
TZOFFSETTO:-0800
TZNAME:PST
DTSTART:20261101T090000
END:STANDARD
BEGIN:DAYLIGHT
TZOFFSETFROM:-0800
TZOFFSETTO:-0700
TZNAME:PDT
DTSTART:20270314T100000
END:DAYLIGHT
BEGIN:STANDARD
TZOFFSETFROM:-0700
TZOFFSETTO:-0800
TZNAME:PST
DTSTART:20271107T090000
END:STANDARD
END:VTIMEZONE
BEGIN:VEVENT
DTSTART;VALUE=DATE:20260714
DTEND;VALUE=DATE:20260716
DTSTAMP:20260423T142046
CREATED:20260316T122630Z
LAST-MODIFIED:20260316T122630Z
UID:38269-1783987200-1784159999@miningir.com
SUMMARY:Mines and Money Online Connect
DESCRIPTION:Connect directly with qualified mining investors actively deploying capital across the project lifecycle. Mines and Money brings together mining company leadership\, institutional investors\, private capital and strategic partners through curated global events and year-round digital engagement. \nMines and Money operates one of the largest curated mining investment networks globally\, combining live events\, digital engagement and year-round investor intelligence to support capital formation across the mining sector.
URL:https://miningir.com/event/mines-and-money-online-connect-2/
LOCATION:BC
CATEGORIES:Mining Events
END:VEVENT
END:VCALENDAR