BEGIN:VCALENDAR
VERSION:2.0
PRODID:-//MiningIR - ECPv6.15.20//NONSGML v1.0//EN
CALSCALE:GREGORIAN
METHOD:PUBLISH
X-WR-CALNAME:MiningIR
X-ORIGINAL-URL:https://miningir.com
X-WR-CALDESC:Events for MiningIR
REFRESH-INTERVAL;VALUE=DURATION:PT1H
X-Robots-Tag:noindex
X-PUBLISHED-TTL:PT1H
BEGIN:VTIMEZONE
TZID:America/Vancouver
BEGIN:DAYLIGHT
TZOFFSETFROM:-0800
TZOFFSETTO:-0700
TZNAME:PDT
DTSTART:20250309T100000
END:DAYLIGHT
BEGIN:STANDARD
TZOFFSETFROM:-0700
TZOFFSETTO:-0800
TZNAME:PST
DTSTART:20251102T090000
END:STANDARD
BEGIN:DAYLIGHT
TZOFFSETFROM:-0800
TZOFFSETTO:-0700
TZNAME:PDT
DTSTART:20260308T100000
END:DAYLIGHT
BEGIN:STANDARD
TZOFFSETFROM:-0700
TZOFFSETTO:-0800
TZNAME:PST
DTSTART:20261101T090000
END:STANDARD
BEGIN:DAYLIGHT
TZOFFSETFROM:-0800
TZOFFSETTO:-0700
TZNAME:PDT
DTSTART:20270314T100000
END:DAYLIGHT
BEGIN:STANDARD
TZOFFSETFROM:-0700
TZOFFSETTO:-0800
TZNAME:PST
DTSTART:20271107T090000
END:STANDARD
END:VTIMEZONE
BEGIN:VEVENT
DTSTART;VALUE=DATE:20260414
DTEND;VALUE=DATE:20260416
DTSTAMP:20260423T143031
CREATED:20260409T171421Z
LAST-MODIFIED:20260409T171507Z
UID:38556-1776124800-1776297599@miningir.com
SUMMARY:BC Critical Minerals Forum
DESCRIPTION:BC Critical Minerals Forum to Unite Industry\, Government and First Nations Leaders\nThe BC Critical Minerals Forum will take place April 14–15 at the Sheraton Vancouver Wall Centre\, bringing together key decision-makers from mining\, government\, finance\, and First Nations. The two-day event will focus on advancing British Columbia’s critical minerals sector through discussions on permitting\, infrastructure\, financing\, and Indigenous partnerships\, with a strong emphasis on building a resilient and competitive supply chain.
URL:https://miningir.com/event/bc-critical-minerals-forum/
LOCATION:Sheraton Vancouver Wall Centre\, 1000 Burrard St\, Vancouver\, BC\, V6Z 2S3\, Canada
CATEGORIES:Mining Events
END:VEVENT
END:VCALENDAR